BEGIN:VCALENDAR
VERSION:2.0
PRODID:-//Live Jazz Performances at Jazz Bistro - ECPv6.11.2//NONSGML v1.0//EN
CALSCALE:GREGORIAN
METHOD:PUBLISH
X-WR-CALNAME:Live Jazz Performances at Jazz Bistro
X-ORIGINAL-URL:https://jazzbistro.ca
X-WR-CALDESC:Events for Live Jazz Performances at Jazz Bistro
REFRESH-INTERVAL;VALUE=DURATION:PT1H
X-Robots-Tag:noindex
X-PUBLISHED-TTL:PT1H
BEGIN:VTIMEZONE
TZID:America/Toronto
BEGIN:DAYLIGHT
TZOFFSETFROM:-0500
TZOFFSETTO:-0400
TZNAME:EDT
DTSTART:20260308T070000
END:DAYLIGHT
BEGIN:STANDARD
TZOFFSETFROM:-0400
TZOFFSETTO:-0500
TZNAME:EST
DTSTART:20261101T060000
END:STANDARD
END:VTIMEZONE
BEGIN:VEVENT
DTSTART;TZID=America/Toronto:20260422T170000
DTEND;TZID=America/Toronto:20260422T190000
DTSTAMP:20260422T212751
CREATED:20260311T185927Z
LAST-MODIFIED:20260311T185927Z
UID:8566-1776877200-1776884400@jazzbistro.ca
SUMMARY:JB Piano Bar: Ewen Farncombe
DESCRIPTION:Ewen Farncombe – solo piano \n \nCOVER: $PWYC
URL:https://jazzbistro.ca/event/jb-piano-bar-ewen-farncombe-43/
END:VEVENT
BEGIN:VEVENT
DTSTART;TZID=America/Toronto:20260422T203000
DTEND;TZID=America/Toronto:20260422T230000
DTSTAMP:20260422T212751
CREATED:20260311T190127Z
LAST-MODIFIED:20260311T190127Z
UID:8570-1776889800-1776898800@jazzbistro.ca
SUMMARY:The Bob Brough Quartet
DESCRIPTION:Bob Brough – saxophone\nDavid Occhipinti – guitar\nArtie Roth – bass\nTerry Clarke – drums \n \nCOVER: $20
URL:https://jazzbistro.ca/event/the-bob-brough-quartet-3/
END:VEVENT
BEGIN:VEVENT
DTSTART;TZID=America/Toronto:20260423T170000
DTEND;TZID=America/Toronto:20260423T190000
DTSTAMP:20260422T212751
CREATED:20260307T204104Z
LAST-MODIFIED:20260307T204104Z
UID:8484-1776963600-1776970800@jazzbistro.ca
SUMMARY:JB Piano Bar: The Joel Bracken Duos
DESCRIPTION:Joel Bracken – tenor saxophone\nTBD – piano \n \nCOVER: $PWYC
URL:https://jazzbistro.ca/event/jb-piano-bar-the-joel-bracken-duos-8/
END:VEVENT
BEGIN:VEVENT
DTSTART;TZID=America/Toronto:20260423T203000
DTEND;TZID=America/Toronto:20260423T230000
DTSTAMP:20260422T212751
CREATED:20260319T005104Z
LAST-MODIFIED:20260321T003207Z
UID:8613-1776976200-1776985200@jazzbistro.ca
SUMMARY:ONA Ensemble
DESCRIPTION:Olivia Esther – French Horn\nVictor Prado – French Horn\nSheba Thibideau – Bassoon\nColleen Allen – Flute/Clarinet/Soprano & Tenor saxes\nAndré Valerio – Guitar\nPaco Luviano – Bass\n\n\n\nCOVER: $20
URL:https://jazzbistro.ca/event/ona-brazilian-ensemble-3/
END:VEVENT
BEGIN:VEVENT
DTSTART;TZID=America/Toronto:20260424T170000
DTEND;TZID=America/Toronto:20260424T190000
DTSTAMP:20260422T212751
CREATED:20260216T002248Z
LAST-MODIFIED:20260216T002248Z
UID:8310-1777050000-1777057200@jazzbistro.ca
SUMMARY:Kirk MacDonald: Duos
DESCRIPTION:Kirk MacDonald – saxophone\nBrian Dickinson – piano \n \nCOVER: $15 ($5 for Mirvish Ticketholders)
URL:https://jazzbistro.ca/event/kirk-macdonald-duos-15/
END:VEVENT
BEGIN:VEVENT
DTSTART;TZID=America/Toronto:20260424T200000
DTEND;TZID=America/Toronto:20260424T230000
DTSTAMP:20260422T212751
CREATED:20260308T015901Z
LAST-MODIFIED:20260308T015901Z
UID:8505-1777060800-1777071600@jazzbistro.ca
SUMMARY:Colin Hunter & The Joe Sealy Quartet (Night 1 of 2)
DESCRIPTION:Colin Hunter – vocals\nAlison Young – saxophones\nJoe Sealy – piano\nPaul Novotny – bass\nDaniel Barnes – drums \n \nCOVER: $25
URL:https://jazzbistro.ca/event/colin-hunter-the-joe-sealy-quartet-night-1-of-2-25/
END:VEVENT
BEGIN:VEVENT
DTSTART;TZID=America/Toronto:20260424T233000
DTEND;TZID=America/Toronto:20260424T233000
DTSTAMP:20260422T212751
CREATED:20260312T012143Z
LAST-MODIFIED:20260312T012143Z
UID:8596-1777073400-1777073400@jazzbistro.ca
SUMMARY:Jazz Bistro's Late Night Jazz Jam (11:30pm to 2am)
DESCRIPTION:This week’s host: Dakota Dogood \n \nCOVER: $PWYC ($5 MINIMUM) \n*KITCHEN OPEN UNTIL 1:30AM\n**NO QUIET POLICY (BUT PLEASE BE RESPECTFUL)
URL:https://jazzbistro.ca/event/jazz-bistros-late-night-jazz-jam-1130pm-to-2am-83/
END:VEVENT
BEGIN:VEVENT
DTSTART;TZID=America/Toronto:20260425T170000
DTEND;TZID=America/Toronto:20260425T190000
DTSTAMP:20260422T212751
CREATED:20260308T015715Z
LAST-MODIFIED:20260308T015715Z
UID:8503-1777136400-1777143600@jazzbistro.ca
SUMMARY:The Tim Hamel Quartet's "All-Request Power Hour"
DESCRIPTION:Tim Hamel – trumpet\nTBD – piano\nJonathan Meyer – bass\nTerry Clarke – drums \n \nCOVER: $15 ($5 for Mirvish Ticketholders)
URL:https://jazzbistro.ca/event/the-tim-hamel-quartets-all-request-power-hour-130/
END:VEVENT
BEGIN:VEVENT
DTSTART;TZID=America/Toronto:20260425T200000
DTEND;TZID=America/Toronto:20260425T230000
DTSTAMP:20260422T212751
CREATED:20260308T015947Z
LAST-MODIFIED:20260308T015947Z
UID:8507-1777147200-1777158000@jazzbistro.ca
SUMMARY:Colin Hunter & The Joe Sealy Quartet (Night 2 of 2)
DESCRIPTION:Colin Hunter – vocals\nAlison Young – saxophones\nJoe Sealy – piano\nPaul Novotny – bass\nDaniel Barnes – drums \n \nCOVER: $25
URL:https://jazzbistro.ca/event/colin-hunter-the-joe-sealy-quartet-night-2-of-2-24/
END:VEVENT
BEGIN:VEVENT
DTSTART;TZID=America/Toronto:20260426T180000
DTEND;TZID=America/Toronto:20260426T203000
DTSTAMP:20260422T212751
CREATED:20260308T021040Z
LAST-MODIFIED:20260308T021040Z
UID:8519-1777226400-1777235400@jazzbistro.ca
SUMMARY:Shalom Murray & Friends
DESCRIPTION:Shalom Murray – vocals\nAlexander Kohlsmith – piano\nBen Payne – bass\nJesse Basi – drums\n\nSpecial Guests:\nEthan Williams – tenor saxophone\nSamuel Heintzman – trumpet and flugelhorn\n\n\n\nCOVER: $20
URL:https://jazzbistro.ca/event/shalom-murray-friends/
END:VEVENT
BEGIN:VEVENT
DTSTART;TZID=America/Toronto:20260428T170000
DTEND;TZID=America/Toronto:20260428T190000
DTSTAMP:20260422T212751
CREATED:20260322T002230Z
LAST-MODIFIED:20260322T002230Z
UID:8623-1777395600-1777402800@jazzbistro.ca
SUMMARY:JB Piano Bar: Duncan Wilson
DESCRIPTION:Duncan Wilson – solo piano \n \nCOVER: $PWYC
URL:https://jazzbistro.ca/event/jb-piano-bar-duncan-wilson-29/
END:VEVENT
BEGIN:VEVENT
DTSTART;TZID=America/Toronto:20260428T203000
DTEND;TZID=America/Toronto:20260428T230000
DTSTAMP:20260422T212751
CREATED:20260311T190515Z
LAST-MODIFIED:20260311T190515Z
UID:8572-1777408200-1777417200@jazzbistro.ca
SUMMARY:The Robert Diack Trio
DESCRIPTION:Steven Noronha – piano\nBrandon Davis – bass\nRobert Diack – drums \n \nCOVER: $20
URL:https://jazzbistro.ca/event/the-robert-diack-trio/
END:VEVENT
BEGIN:VEVENT
DTSTART;TZID=America/Toronto:20260429T170000
DTEND;TZID=America/Toronto:20260429T190000
DTSTAMP:20260422T212751
CREATED:20260311T190004Z
LAST-MODIFIED:20260311T190004Z
UID:8568-1777482000-1777489200@jazzbistro.ca
SUMMARY:JB Piano Bar: Ewen Farncombe
DESCRIPTION:Ewen Farncombe – solo piano \n \nCOVER: $PWYC
URL:https://jazzbistro.ca/event/jb-piano-bar-ewen-farncombe-44/
END:VEVENT
BEGIN:VEVENT
DTSTART;TZID=America/Toronto:20260429T203000
DTEND;TZID=America/Toronto:20260429T230000
DTSTAMP:20260422T212751
CREATED:20260311T190919Z
LAST-MODIFIED:20260311T190919Z
UID:8575-1777494600-1777503600@jazzbistro.ca
SUMMARY:The Jen Lo Trio
DESCRIPTION:Jen Lo – piano\nBen Dwyer – bass\nAngelica Zavala – drums \n \nCOVER: $20
URL:https://jazzbistro.ca/event/the-jen-lo-trio-4/
END:VEVENT
BEGIN:VEVENT
DTSTART;TZID=America/Toronto:20260430T170000
DTEND;TZID=America/Toronto:20260430T190000
DTSTAMP:20260422T212751
CREATED:20260307T204159Z
LAST-MODIFIED:20260307T204159Z
UID:8486-1777568400-1777575600@jazzbistro.ca
SUMMARY:JB Piano Bar: The Joel Bracken Duos
DESCRIPTION:Joel Bracken – tenor saxophone\nTBD – piano \n \nCOVER: $PWYC
URL:https://jazzbistro.ca/event/jb-piano-bar-the-joel-bracken-duos-9/
END:VEVENT
BEGIN:VEVENT
DTSTART;TZID=America/Toronto:20260430T203000
DTEND;TZID=America/Toronto:20260430T230000
DTSTAMP:20260422T212751
CREATED:20260311T193321Z
LAST-MODIFIED:20260311T193321Z
UID:8585-1777581000-1777590000@jazzbistro.ca
SUMMARY:The Sean Bray Quartet
DESCRIPTION:Pat LaBarbera – saxophone\nSean Bray – guitar\nGeorge Koller – bass\nDavide DiRenzo – drums \n \nCOVER: $20
URL:https://jazzbistro.ca/event/the-sean-bray-quartet-2/
END:VEVENT
END:VCALENDAR